BEGIN:VCALENDAR
VERSION:2.0
PRODID:-//DEC Inzell - ECPv4.6.8//NONSGML v1.0//EN
CALSCALE:GREGORIAN
METHOD:PUBLISH
X-WR-CALNAME:DEC Inzell
X-ORIGINAL-URL:https://www.dec-inzell.de
X-WR-CALDESC:Events for DEC Inzell
BEGIN:VEVENT
DTSTART;TZID=UTC+1:20230218T130000
DTEND;TZID=UTC+1:20230219T130000
DTSTAMP:20260421T092420
CREATED:20220705T110621Z
LAST-MODIFIED:20230219T122050Z
UID:234122-1676725200-1676811600@www.dec-inzell.de
SUMMARY:Frillensee Cup
DESCRIPTION:Max 100 Teilnehmer aller Altersklassen \nStartzeit Samstag 12:30 Uhr\nStartzeit Sonntag 09:00 Uhr \nDistanzen Samstag: 100 bis 1.000 m + 3.000 m\nDistanzen Sonntag: 100 bis 500 m + 1.500 m \nÄnderungen vorbehalten! \nFür mehr Informationen gehen Sie zum Wettkampfkalender für Eisschnelllauf \n————– \nMax. 100 participants of all ages \nStarting Time Saturday 12:30 pm\nStarting Time Sunday 09:00 am \nDistances Saturday: 100 until 1.000 m + 3.000 m\nDistances Sunday: 100 until 500 m + 1.500 m \nSubject to change! \nFor more information go to competition calendar for Speed Skating \n
URL:https://www.dec-inzell.de/veranstaltung/fc7-23/
LOCATION:Reichenhaller Straße 79\, Inzell\, 83334\, Deutschland
CATEGORIES:DEC Eisschnelllauf,Eisschnelllauf,Eisschnelllauf / Shorttrack
ATTACH;FMTTYPE=image/jpeg:https://www.dec-inzell.de/wp-content/uploads/2017/05/maa-BEI_FrillenCup.jpg
ORGANIZER;CN="DEC%20Inzell%20Frillensee":MAILTO:entry@max-aicher-arena.de
END:VEVENT
END:VCALENDAR