BEGIN:VCALENDAR
VERSION:2.0
PRODID:-//DEC Inzell - ECPv4.6.8//NONSGML v1.0//EN
CALSCALE:GREGORIAN
METHOD:PUBLISH
X-WR-CALNAME:DEC Inzell
X-ORIGINAL-URL:https://www.dec-inzell.de
X-WR-CALDESC:Events for DEC Inzell
BEGIN:VEVENT
DTSTART;TZID=UTC+1:20210220T130000
DTEND;TZID=UTC+1:20210221T123000
DTSTAMP:20260425T013208
CREATED:20200710T140010Z
LAST-MODIFIED:20210220T155517Z
UID:194583-1613826000-1613910600@www.dec-inzell.de
SUMMARY:Frillensee Cup
DESCRIPTION:Berufssportler (National Teams und Landeskader) Senioren bis Junioren D2 \nStartzeit Samstag 13:00 Uhr\nStartzeit Sonntag 09:30 Uhr \nDistanzen Samstag: 100 bis 1.000 und 3.000 m\nDistanzen Sonntag: 100 bis 500 und 1.500 m \nÄnderungen vorbehalten! \nWichtigste Regeln für den Wettkampfbetrieb: \n\nDas Aufwärmprogramm muss im Freien stattfinden\, ausgenommen im persönlichen\nAufwärmbereich\nIn der Arena gilt Maskenpflicht\, nur zum aktiven Sport kann die Maske abgenommen werden!\nTeilnehmer sind für ihre Armschleifen selbst verantwortlich – Kauf an der Kasse und im Skatespecials Shop (Chiemgau Appartements) möglich!\nmax. 50 Teilnehmer auf dem Eis\ndie Beschränkung der aktuellen Teilnehmer zur Erwärmung auf dem Eis\, wird durch die Transponderausgabe geregelt. Faustregel: 20 min. vor dem Start wird dem Teilnehmer der Transponder ausgehändigt!\nKein Ausfahren auf dem Eis!\nnach Beendigung des Wettkampfes ist die Arena so rasch als möglich zu verlassen\nZuschauer nicht erlaubt!\n\nFür mehr Informationen gehen Sie zum Wettkampfkalender für Eisschnelllauf \n————– \nProfessional Athletes (National Teams\, Regional Sqad Teams ) Senior until Junior D2 \nStarting Time Saturday 13:00 pm\nStarting Time Sunday 09:30 pm \nDistances Saturday: 100 until 1.000 m and 3.000 m\nDistances Sunday: 100 until 500 and 1.500 m \nSubject to change! \nThe most important rules for the competition: \n\nThe warm-up programme must take place outdoors\, except in the personal\nWarm-up area\nIn the arena\, masks are mandatory\, only for active sports the mask can be removed!\nParticipants are responsible for their arm loops themselves – purchase at the checkout and the Skatespecials Shop (Chiemgau Appartements)!\nmax. 50 participants on the ice\nthe restriction of the current participants for heating on the ice is regulated by the transponder output. Rule of thumb: 20 min. before the start is handed over to the participant of the transponders!\nNo cool-down on the ice!\nafter the end of the competition\, the arena must be left as soon as possible\nNo spectators allowed.\n\nFor more information go to competition calendar for Speed Skating \n
URL:https://www.dec-inzell.de/veranstaltung/frillensee-cup-35/
LOCATION:Reichenhaller Straße 79\, Inzell\, 83334\, Deutschland
CATEGORIES:Eisschnelllauf,Eisschnelllauf / Shorttrack
ATTACH;FMTTYPE=image/jpeg:https://www.dec-inzell.de/wp-content/uploads/2017/05/maa-BEI_FrillenCup.jpg
ORGANIZER;CN="DEC%20Inzell%20Frillensee":MAILTO:entry@max-aicher-arena.de
END:VEVENT
END:VCALENDAR