BEGIN:VCALENDAR
VERSION:2.0
PRODID:-//DEC Inzell - ECPv4.6.8//NONSGML v1.0//EN
CALSCALE:GREGORIAN
METHOD:PUBLISH
X-WR-CALNAME:DEC Inzell
X-ORIGINAL-URL:https://www.dec-inzell.de
X-WR-CALDESC:Events for DEC Inzell
BEGIN:VEVENT
DTSTART;TZID=UTC+1:20201010T120000
DTEND;TZID=UTC+1:20201011T120000
DTSTAMP:20260425T220206
CREATED:20200709T180033Z
LAST-MODIFIED:20201217T070130Z
UID:194093-1602331200-1602417600@www.dec-inzell.de
SUMMARY:Internationale Saisoneröffnung
DESCRIPTION:Einladungsrennen für Weltcupteilnehmer\, National Teams und Profi-Teams \nStartzeit Samstag\, 10. Oktober 2020 13:00 Uhr\nStartzeit Sonntag\, 11. Oktober 2020 09:30 Uhr \nStrecken Samstag: 500\, 1.000\, 5.000 m\nStrecken Sonntag: 500\, 1.500\, 3.000 m \nWichtigste Regeln für den Wettkampfbetrieb: \n\nDas Aufwärmprogramm muss im Freien stattfinden\, ausgenommen im persönlichen\nAufwärmbereich\nIn der Arena gilt Maskenpflicht\, nur zum aktiven Sport kann die Maske abgenommen werden!\nTeilnehmer sind für ihre Armschleifen selbst verantwortlich – Kauf an der Kasse und im Skatespecials Shop (Chiemgau Appartements) möglich!\nmax. 50 Teilnehmer auf dem Eis\ndie Beschränkung der aktuellen Teilnehmer zur Erwärmung auf dem Eis\, wird durch die Transponderausgabe geregelt. Faustregel: 20 min. vor dem Start wird dem Teilnehmer der Transponder ausgehändigt!\nKein Ausfahren auf dem Eis!\nnach Beendigung des Wettkampfes ist die Arena so rasch als möglich zu verlassen\nDer öffentliche Bereich ist die Zuschauertribüne für den Eisschnelllauf (Sektor A3 bis A5). Die Gesamtzahl von 200 Zuschauern darf nicht überschritten werden und diese müssen an den gekennzeichneten und zugewiesenen Bereichen Platz nehmen\n\nFür mehr Informationen gehen Sie zum Wettkampfkalender für Eisschnelllauf \n————– \nInvitation race for World Cup participants\, National Teams and Professional Teams \nStarting Time Saturday\, 10th October 2020 13:00 h\nStarting Time Sunday\, 11th October 2020 09:30 h \nDistances Saturday: 500\, 1.000\, 5.000 m\nDistances Sunday: 500\, 1.500\, 3.000 m \nThe most important rules for the competition: \n\nThe warm-up programme must take place outdoors\, except in the personal\nWarm-up area\nIn the arena\, masks are mandatory\, only for active sports the mask can be removed!\nParticipants are responsible for their arm loops themselves – purchase at the checkout and the Skatespecials Shop (Chiemgau Appartements)!\nmax. 50 participants on the ice\nthe restriction of the current participants for heating on the ice is regulated by the transponder output. Rule of thumb: 20 min. before the start is handed over to the participant of the transponders!\nNo cool-down on the ice!\nafter the end of the competition\, the arena must be left as soon as possible\nThe public area is the public gallery for speed skating (sector A3 to A5). The total number of 200 spectators must not be exceeded and they must be seated in the marked and allocated areas.\n\nFor more information go to competition calendar for Speed Skating \n
URL:https://www.dec-inzell.de/veranstaltung/internationale-saisoneroeffnung-6/
LOCATION:Reichenhaller Straße 79\, Inzell\, 83334\, Deutschland
CATEGORIES:Eisschnelllauf,Eisschnelllauf / Shorttrack
ATTACH;FMTTYPE=image/jpeg:https://www.dec-inzell.de/wp-content/uploads/2017/05/maa-BEI_ESL_Gabi.jpg
ORGANIZER;CN="DEC%20Inzell%20Frillensee":MAILTO:entry@max-aicher-arena.de
END:VEVENT
END:VCALENDAR