BEGIN:VCALENDAR
VERSION:2.0
PRODID:-//DEC Inzell - ECPv4.6.8//NONSGML v1.0//EN
CALSCALE:GREGORIAN
METHOD:PUBLISH
X-WR-CALNAME:DEC Inzell
X-ORIGINAL-URL:https://www.dec-inzell.de
X-WR-CALDESC:Events for DEC Inzell
BEGIN:VEVENT
DTSTART;TZID=UTC+1:20161112T120000
DTEND;TZID=UTC+1:20161113T140000
DTSTAMP:20260421T090425
CREATED:20190506T213210Z
LAST-MODIFIED:20190506T213210Z
UID:6638-1478952000-1479045600@www.dec-inzell.de
SUMMARY:Internationales Juniorenrennen
DESCRIPTION:Teilnehmer für Junioren Damen und Herren von AK10 bis AK15\nStartzeit Samstag\, 12. November 2016 13:00 Uhr\nStartzeit Sonntag\, 13. November 2016 09:30 Uhr \nDistanzen Samstag: 300 bis 1.500 m\nDistanzen Sonntag: 500 und 1.000 m \nFür mehr Informationen gehen Sie zum Wettkampfkalender für Eisschnelllauf \n————– \nParticipants for Junior ladies and men from Jun E1 till Jun C2\nStarting Time Saturday\, 12th November 2016 13:00 h\nStarting Time Sunday\, 13th November 2016 09:30 h \nDistances Saturday: 300 till 1.500 m\nDistances Sunday: 500 and 1.000 m \nFor more information go to competition calendar for Speed Skating \n
URL:https://www.dec-inzell.de/veranstaltung/internationales-juniorenrennen/
LOCATION:Reichenhaller Straße 79\, Inzell\, 83334\, Deutschland
CATEGORIES:Eisschnelllauf / Shorttrack
END:VEVENT
END:VCALENDAR