BEGIN:VCALENDAR
VERSION:2.0
PRODID:-//DEC Inzell - ECPv4.6.8//NONSGML v1.0//EN
CALSCALE:GREGORIAN
METHOD:PUBLISH
X-WR-CALNAME:DEC Inzell
X-ORIGINAL-URL:https://www.dec-inzell.de
X-WR-CALDESC:Events for DEC Inzell
BEGIN:VEVENT
DTSTART;TZID=UTC+1:20171229T180000
DTEND;TZID=UTC+1:20171230T140000
DTSTAMP:20260421T090319
CREATED:20190506T212915Z
LAST-MODIFIED:20190507T124326Z
UID:6398-1514570400-1514642400@www.dec-inzell.de
SUMMARY:Internationales Rennen
DESCRIPTION:max. 150 Teilnehmer mit Limit Zeiten laut Ausschreibung\nEinschränkungen für Weltcupläufer und Nationalteams \nStartzeit Freitag\, 29. Dezember 2017 17:00 Uhr\nStartzeit Samstag\, 30. Dezember 2017 13:00Uhr \nStrecken Freitag: 500\, 1.000\, 3.000 oder 5.000 m\nStrecken Samstag: 500\, 1.500 m \nÄnderungen vorbehalten! \nFür mehr Informationen gehen Sie zum Wettkampfkalender für Eisschnelllauf \n————– \nmax. 150 participants with limit times according to the announcement\nLimitations World Cup starters and national teams \nStarting Time Friday\, 29th December 2017 17:00 h\nStarting Time Saturday\, 30th December 2017 13:00 h \nDistances Saturday: 500\, 1.000 \, 3.000 or 5.000 m\nDistances Sunday: 500\, 1.500 m \nSubject to change! \nFor more information go to competition calendar for Speed Skating \n
URL:https://www.dec-inzell.de/veranstaltung/internationales-rennen-9/
LOCATION:Reichenhaller Straße 79\, Inzell\, 83334\, Deutschland
CATEGORIES:Eisschnelllauf,Eisschnelllauf / Shorttrack
END:VEVENT
END:VCALENDAR