BEGIN:VCALENDAR
VERSION:2.0
PRODID:-//DEC Inzell - ECPv4.6.8//NONSGML v1.0//EN
CALSCALE:GREGORIAN
METHOD:PUBLISH
X-WR-CALNAME:DEC Inzell
X-ORIGINAL-URL:https://www.dec-inzell.de
X-WR-CALDESC:Events for DEC Inzell
BEGIN:VEVENT
DTSTART;TZID=UTC+1:20240727T123000
DTEND;TZID=UTC+1:20240727T153000
DTSTAMP:20260421T102759
CREATED:20240717T133955Z
LAST-MODIFIED:20240729T095629Z
UID:236421-1722083400-1722094200@www.dec-inzell.de
SUMMARY:Invitation Test Race
DESCRIPTION:Berufssportler\nStartzeit Samstag 13:30 Uhr \nDistanzen Samstag: 500 bis 3.000 m \nFür mehr Informationen gehen Sie zum Wettkampfkalender für Eisschnelllauf \n————– \nprofessional Athletes\nStarting Time Saturday 13:30 pm \nDistances Saturday: 500 until 3.000 m \nFor more information go to competition calendar for Speed Skating \n
URL:https://www.dec-inzell.de/veranstaltung/invitation-test-race/
LOCATION:Reichenhaller Straße 79\, Inzell\, 83334\, Deutschland
CATEGORIES:DEC Eisschnelllauf,Eisschnelllauf,Eisschnelllauf / Shorttrack
ATTACH;FMTTYPE=image/jpeg:https://www.dec-inzell.de/wp-content/uploads/2017/05/maa-BEI_FrillenCup.jpg
ORGANIZER;CN="DEC%20Inzell%20Frillensee":MAILTO:entry@max-aicher-arena.de
END:VEVENT
END:VCALENDAR