BEGIN:VCALENDAR
VERSION:2.0
PRODID:-//DEC Inzell - ECPv4.6.8//NONSGML v1.0//EN
CALSCALE:GREGORIAN
METHOD:PUBLISH
X-WR-CALNAME:DEC Inzell
X-ORIGINAL-URL:https://www.dec-inzell.de
X-WR-CALDESC:Events for DEC Inzell
BEGIN:VEVENT
DTSTART;TZID=UTC+1:20220930T180000
DTEND;TZID=UTC+1:20221002T130000
DTSTAMP:20260421T104033
CREATED:20220705T113604Z
LAST-MODIFIED:20221001T141433Z
UID:234146-1664560800-1664715600@www.dec-inzell.de
SUMMARY:Internationales Rennen
DESCRIPTION:max. 150 Teilnehmer mit Limit Zeiten laut Ausschreibung \nStartzeit Freitag\, 30.September 2022 18:00 Uhr\nStartzeit Samstag\, 01. Oktober 2022 13:00 Uhr\nStartzeit Sonntag\, 02. Oktober 2022 09:30 Uhr \nStrecken: 500 m bis 5.000 m\, Massenstart \nÄnderungen vorbehalten! \nFür mehr Informationen gehen Sie zum Wettkampfkalender für Eisschnelllauf \n————– \nmax. 150 participants with limit times according to the announcement \nStarting Time Friday\, 30th of September 2022\, 18:00 h\nStarting Time Saturday\, 1st of October 2022\, 13:00 h\nStarting Time Sunday\, 2nd of October 2022\, 09:30 h \nDistances: 500 until 5.000 m\, mass start \nSubject to change! \nFor more information go to competition calendar for Speed Skating  \n
URL:https://www.dec-inzell.de/veranstaltung/ir1-23/
LOCATION:Reichenhaller Straße 79\, Inzell\, 83334\, Deutschland
CATEGORIES:DEC Eisschnelllauf,Eisschnelllauf,Eisschnelllauf / Shorttrack
ATTACH;FMTTYPE=image/jpeg:https://www.dec-inzell.de/wp-content/uploads/2017/05/maa-BEI_ESL_Jordan.jpg
ORGANIZER;CN="DEC%20Inzell%20Frillensee":MAILTO:entry@max-aicher-arena.de
END:VEVENT
END:VCALENDAR