BEGIN:VCALENDAR
VERSION:2.0
PRODID:-//DEC Inzell - ECPv4.6.8//NONSGML v1.0//EN
CALSCALE:GREGORIAN
METHOD:PUBLISH
X-WR-CALNAME:DEC Inzell
X-ORIGINAL-URL:https://www.dec-inzell.de
X-WR-CALDESC:Events for DEC Inzell
BEGIN:VEVENT
DTSTART;TZID=UTC+1:20200724T170000
DTEND;TZID=UTC+1:20200724T190000
DTSTAMP:20260424T230413
CREATED:20200303T110009Z
LAST-MODIFIED:20201217T070149Z
UID:126221-1595610000-1595617200@www.dec-inzell.de
SUMMARY:Test WK
DESCRIPTION:Testrennen\, nähere Informationen werden noch bekannt gegeben. \n
URL:https://www.dec-inzell.de/veranstaltung/isu-junior-development-competition/
LOCATION:Reichenhaller Straße 79\, Inzell\, 83334\, Deutschland
CATEGORIES:Eisschnelllauf,Eisschnelllauf / Shorttrack
ORGANIZER;CN="DEC%20Inzell%20Frillensee":MAILTO:entry@max-aicher-arena.de
END:VEVENT
END:VCALENDAR