BEGIN:VCALENDAR
VERSION:2.0
PRODID:-//DEC Inzell - ECPv4.6.8//NONSGML v1.0//EN
CALSCALE:GREGORIAN
METHOD:PUBLISH
X-WR-CALNAME:DEC Inzell
X-ORIGINAL-URL:https://www.dec-inzell.de
X-WR-CALDESC:Events for DEC Inzell
BEGIN:VEVENT
DTSTART;TZID=UTC+1:20250216T090000
DTEND;TZID=UTC+1:20250216T133000
DTSTAMP:20260419T115435
CREATED:20250121T125143Z
LAST-MODIFIED:20250121T125225Z
UID:237609-1739696400-1739712600@www.dec-inzell.de
SUMMARY:ROU Championship
DESCRIPTION:Max 80 Teilnehmer aller Altersklassen \nDistanzen Sonntag: Romanian Championship laut Ausschreibung\nStartzeit Sonntag 09:00 Uhr \nÄnderungen vorbehalten! \nAuslosung und live Ergebnisse unter live.speedskatingnews.info\n \n————– \nMax. 80 participants of all ages \nDistances Sunday: Romanian Championship according to announcement\nStarting Time Sunday 9:00 am \nSubject to change! \ndrawing and livestream on live.speedskatingnews.info \n
URL:https://www.dec-inzell.de/veranstaltung/rou-championship/
LOCATION:Reichenhaller Straße 79\, Inzell\, 83334\, Deutschland
CATEGORIES:DEC Eisschnelllauf,Eisschnelllauf,Eisschnelllauf / Shorttrack
ATTACH;FMTTYPE=image/jpeg:https://www.dec-inzell.de/wp-content/uploads/2017/05/maa-BEI_FrillenCup.jpg
ORGANIZER;CN="DEC%20Inzell%20Frillensee":MAILTO:entry@max-aicher-arena.de
END:VEVENT
END:VCALENDAR